BEGIN:VCALENDAR
VERSION:2.0
PRODID:-//Adxstudio Inc.//Adxstudio Portals//EN
BEGIN:VEVENT
UID:d35e9814-0a11-f111-8341-70a8a50c89be@go.kpu.ca
DTSTART:20260421T020000Z
DTEND:20260421T030000Z
DTSTAMP:20260420T090552Z
SUMMARY:Literacy Communities (LCOM) Information Session
BEGIN:VALARM
TRIGGER:-PT15M
ACTION:DISPLAY
DESCRIPTION:Literacy Communities (LCOM) Information Session
END:VALARM
END:VEVENT
END:VCALENDAR
