BEGIN:VCALENDAR
VERSION:2.0
PRODID:-//Adxstudio Inc.//Adxstudio Portals//EN
BEGIN:VEVENT
UID:83b24bc2-ea10-f111-8341-70a8a50c89be@go.kpu.ca
DTSTART:20260416T190000Z
DTEND:20260416T200000Z
DTSTAMP:20260424T105941Z
SUMMARY:Parents and Supporters Information Session
BEGIN:VALARM
TRIGGER:-PT15M
ACTION:DISPLAY
DESCRIPTION:Parents and Supporters Information Session
END:VALARM
END:VEVENT
END:VCALENDAR
